BEGIN:VCALENDAR
VERSION:2.0
PRODID:-//Rrinaco - ECPv6.15.10//NONSGML v1.0//EN
CALSCALE:GREGORIAN
METHOD:PUBLISH
X-WR-CALNAME:Rrinaco
X-ORIGINAL-URL:https://rrinaco.com
X-WR-CALDESC:Events for Rrinaco
REFRESH-INTERVAL;VALUE=DURATION:PT1H
X-Robots-Tag:noindex
X-PUBLISHED-TTL:PT1H
BEGIN:VTIMEZONE
TZID:America/Chicago
BEGIN:DAYLIGHT
TZOFFSETFROM:-0600
TZOFFSETTO:-0500
TZNAME:CDT
DTSTART:20250309T080000
END:DAYLIGHT
BEGIN:STANDARD
TZOFFSETFROM:-0500
TZOFFSETTO:-0600
TZNAME:CST
DTSTART:20251102T070000
END:STANDARD
BEGIN:DAYLIGHT
TZOFFSETFROM:-0600
TZOFFSETTO:-0500
TZNAME:CDT
DTSTART:20260308T080000
END:DAYLIGHT
BEGIN:STANDARD
TZOFFSETFROM:-0500
TZOFFSETTO:-0600
TZNAME:CST
DTSTART:20261101T070000
END:STANDARD
BEGIN:DAYLIGHT
TZOFFSETFROM:-0600
TZOFFSETTO:-0500
TZNAME:CDT
DTSTART:20270314T080000
END:DAYLIGHT
BEGIN:STANDARD
TZOFFSETFROM:-0500
TZOFFSETTO:-0600
TZNAME:CST
DTSTART:20271107T070000
END:STANDARD
END:VTIMEZONE
BEGIN:VEVENT
DTSTART;TZID=America/Chicago:20260322T190000
DTEND;TZID=America/Chicago:20260322T220000
DTSTAMP:20260421T020312
CREATED:20260210T212259Z
LAST-MODIFIED:20260210T212259Z
UID:532-1774206000-1774216800@rrinaco.com
SUMMARY:Rrinaco at The Focal Point
DESCRIPTION:Rrinaco’s debut performance at The Focal Point! Featuring a full band variety show of originals\, traditional bluegrass\, country\, Americana\, and contemporary folk music. To learn more and purchase tickets\, see the show description here: https://thefocalpoint.org/event/an-evening-of-americana-contemporary-folk-and-bluegrass-with-rrinaco/
URL:https://rrinaco.com/event/rrinaco-at-the-focal-point/
LOCATION:The Focal Point\, 2720 Sutton Blvd.\, Maplewood\, 63143\, United States
END:VEVENT
BEGIN:VEVENT
DTSTART;TZID=America/Chicago:20260323T190000
DTEND;TZID=America/Chicago:20260323T220000
DTSTAMP:20260421T020312
CREATED:20260210T213852Z
LAST-MODIFIED:20260212T215711Z
UID:541-1774292400-1774303200@rrinaco.com
SUMMARY:Rrinaco at Bluegrass Monday
DESCRIPTION:Rrinaco’s debut at KASU’s Bluegrass Monday! Featuring full band variety show focusing on traditional bluegrass and country with originals. \nFor tickets and general info\, click here: https://secure.touchnet.net/C20019_ustores/web/product_detail.jsp?PRODUCTID=1685 \nFor more information\, visit the Bluegrass Monday page here: https://www.facebook.com/BluegrassMonday/
URL:https://rrinaco.com/event/rrinaco-at-bluegrass-monday/
LOCATION:Collins Theatre\, 120 W Emerson\, Paragould\, 72450\, United States
ORGANIZER;CN="KASU":MAILTO:mscarbro@astate.edu
END:VEVENT
END:VCALENDAR